BEGIN:VCALENDAR
VERSION:2.0
PRODID:-//Projekt Tillit - ECPv4.9.8//NONSGML v1.0//EN
CALSCALE:GREGORIAN
METHOD:PUBLISH
X-WR-CALNAME:Projekt Tillit
X-ORIGINAL-URL:https://tillit.futveckling.se
X-WR-CALDESC:Händelser för Projekt Tillit
BEGIN:VTIMEZONE
TZID:Europe/Helsinki
BEGIN:DAYLIGHT
TZOFFSETFROM:+0200
TZOFFSETTO:+0300
TZNAME:EEST
DTSTART:20190331T010000
END:DAYLIGHT
BEGIN:STANDARD
TZOFFSETFROM:+0300
TZOFFSETTO:+0200
TZNAME:EET
DTSTART:20191027T010000
END:STANDARD
END:VTIMEZONE
BEGIN:VEVENT
DTSTART;TZID="Europe/Helsinki":20191120T100000
DTEND;TZID="Europe/Helsinki":20191120T110000
DTSTAMP:20260424T232145
CREATED:20160623T142851Z
LAST-MODIFIED:20191031T122037Z
UID:371-1574244000-1574247600@tillit.futveckling.se
SUMMARY:Informationsmöte Eslöv
DESCRIPTION:Välkommen på informationsmöte om projekt Tillit och praktik utomlands  på arbetsförmedlingen i Eslöv\, Södergatan 6 B! \n
URL:https://tillit.futveckling.se/event/informationsmote-eslov/
LOCATION:Arbetsförmedlingen Esöv\, Södergatan 6B\, Eslöv\, Sverige
CATEGORIES:Informationsmöte
ATTACH;FMTTYPE=image/jpeg:https://tillit.futveckling.se/wp-content/uploads/2016/03/Cardiff_kyrka.jpg
END:VEVENT
END:VCALENDAR