BEGIN:VCALENDAR
VERSION:2.0
PRODID:-//Projekt Tillit - ECPv4.9.8//NONSGML v1.0//EN
CALSCALE:GREGORIAN
METHOD:PUBLISH
X-WR-CALNAME:Projekt Tillit
X-ORIGINAL-URL:https://tillit.futveckling.se
X-WR-CALDESC:Händelser för Projekt Tillit
BEGIN:VTIMEZONE
TZID:Europe/Helsinki
BEGIN:DAYLIGHT
TZOFFSETFROM:+0200
TZOFFSETTO:+0300
TZNAME:EEST
DTSTART:20190331T010000
END:DAYLIGHT
BEGIN:STANDARD
TZOFFSETFROM:+0300
TZOFFSETTO:+0200
TZNAME:EET
DTSTART:20191027T010000
END:STANDARD
END:VTIMEZONE
BEGIN:VEVENT
DTSTART;TZID="Europe/Helsinki":20191126T130000
DTEND;TZID="Europe/Helsinki":20191126T140000
DTSTAMP:20260424T194444
CREATED:20160608T081112Z
LAST-MODIFIED:20191031T121510Z
UID:347-1574773200-1574776800@tillit.futveckling.se
SUMMARY:Informationsmöte Karlshamn
DESCRIPTION:Välkommen på informationsmöte om projekt Tillit och praktik utomlands  på arbetsförmedlingen i Karlshamn\, Stadsportsgatan 9! \n
URL:https://tillit.futveckling.se/event/informationsmote-karlshamn/
LOCATION:Arbetsförmedlingen Karlshamn\, Stadsportsgatan 9 \, Karlshamn\, Sverige
CATEGORIES:Informationsmöte
ATTACH;FMTTYPE=image/jpeg:https://tillit.futveckling.se/wp-content/uploads/2016/04/2008-09-13-11.03.10_sv.jpg
END:VEVENT
END:VCALENDAR