BEGIN:VCALENDAR
VERSION:2.0
PRODID:-//Projekt Tillit - ECPv4.9.8//NONSGML v1.0//EN
CALSCALE:GREGORIAN
METHOD:PUBLISH
X-WR-CALNAME:Projekt Tillit
X-ORIGINAL-URL:https://tillit.futveckling.se
X-WR-CALDESC:Händelser för Projekt Tillit
BEGIN:VTIMEZONE
TZID:Europe/Helsinki
BEGIN:DAYLIGHT
TZOFFSETFROM:+0200
TZOFFSETTO:+0300
TZNAME:EEST
DTSTART:20190331T010000
END:DAYLIGHT
BEGIN:STANDARD
TZOFFSETFROM:+0300
TZOFFSETTO:+0200
TZNAME:EET
DTSTART:20191027T010000
END:STANDARD
END:VTIMEZONE
BEGIN:VEVENT
DTSTART;TZID="Europe/Helsinki":20191126T100000
DTEND;TZID="Europe/Helsinki":20191126T110000
DTSTAMP:20260424T200413
CREATED:20160627T123404Z
LAST-MODIFIED:20191031T112718Z
UID:381-1574762400-1574766000@tillit.futveckling.se
SUMMARY:Informationsmöte Karlskrona
DESCRIPTION:Välkommen på informationsmöte om projekt Tillit och praktik utomlands  på Navigatorcentrum i Karlskrona\, Norra Kungsgatan 24! \n
URL:https://tillit.futveckling.se/event/informationsmote-karlskrona/
LOCATION:Navigatorcentrum Karlskrona\, Norra Kungsgatan 24\, Karlskrona\, Sverige
CATEGORIES:Informationsmöte
ATTACH;FMTTYPE=image/jpeg:https://tillit.futveckling.se/wp-content/uploads/2016/04/2008-09-13-11.03.10_sv.jpg
END:VEVENT
END:VCALENDAR