BEGIN:VCALENDAR
VERSION:2.0
PRODID:-//Projekt Tillit - ECPv4.9.8//NONSGML v1.0//EN
CALSCALE:GREGORIAN
METHOD:PUBLISH
X-WR-CALNAME:Projekt Tillit
X-ORIGINAL-URL:https://tillit.futveckling.se
X-WR-CALDESC:Händelser för Projekt Tillit
BEGIN:VTIMEZONE
TZID:Europe/Helsinki
BEGIN:DAYLIGHT
TZOFFSETFROM:+0200
TZOFFSETTO:+0300
TZNAME:EEST
DTSTART:20190331T010000
END:DAYLIGHT
BEGIN:STANDARD
TZOFFSETFROM:+0300
TZOFFSETTO:+0200
TZNAME:EET
DTSTART:20191027T010000
END:STANDARD
END:VTIMEZONE
BEGIN:VEVENT
DTSTART;TZID="Europe/Helsinki":20191127T100000
DTEND;TZID="Europe/Helsinki":20191127T110000
DTSTAMP:20260424T195754
CREATED:20160623T141611Z
LAST-MODIFIED:20191031T122414Z
UID:367-1574848800-1574852400@tillit.futveckling.se
SUMMARY:Informationsmöte Lund
DESCRIPTION:Välkommen på informationsmöte om projekt Tillit och praktik utomlands  på arbetsförmedlingen i Lund\, Stora Södergatan 49! \n
URL:https://tillit.futveckling.se/event/informationsmote-lund/
LOCATION:Arbetsförmedlingen i Lund\, Stora södergatan 49\, Lund
CATEGORIES:Informationsmöte
ATTACH;FMTTYPE=image/jpeg:https://tillit.futveckling.se/wp-content/uploads/2016/05/2008-11-22-23.58.43_Sv.jpg
END:VEVENT
END:VCALENDAR