BEGIN:VCALENDAR
VERSION:2.0
PRODID:-//Projekt Tillit - ECPv4.9.8//NONSGML v1.0//EN
CALSCALE:GREGORIAN
METHOD:PUBLISH
X-WR-CALNAME:Projekt Tillit
X-ORIGINAL-URL:https://tillit.futveckling.se
X-WR-CALDESC:Händelser för Projekt Tillit
BEGIN:VTIMEZONE
TZID:Europe/Helsinki
BEGIN:DAYLIGHT
TZOFFSETFROM:+0200
TZOFFSETTO:+0300
TZNAME:EEST
DTSTART:20180325T010000
END:DAYLIGHT
BEGIN:STANDARD
TZOFFSETFROM:+0300
TZOFFSETTO:+0200
TZNAME:EET
DTSTART:20181028T010000
END:STANDARD
END:VTIMEZONE
BEGIN:VEVENT
DTSTART;TZID="Europe/Helsinki":20181121T130000
DTEND;TZID="Europe/Helsinki":20181121T140000
DTSTAMP:20260424T213411
CREATED:20160627T122924Z
LAST-MODIFIED:20181107T125444Z
UID:379-1542805200-1542808800@tillit.futveckling.se
SUMMARY:Informationsmöte Ronneby
DESCRIPTION:Välkommen på informationsmöte om projekt Tillit och praktik utomlands  på arbetsförmedlingen i Ronneby\, Karlskronagatan 7! \n
URL:https://tillit.futveckling.se/event/informationsmote-ronneby/
LOCATION:Arbetsförmedlingen Ronneby\, Karlskronagatan 7\, Ronneby\, Sverige
CATEGORIES:Informationsmöte
ATTACH;FMTTYPE=image/jpeg:https://tillit.futveckling.se/wp-content/uploads/2016/04/2008-09-13-11.03.10_sv.jpg
END:VEVENT
END:VCALENDAR