BEGIN:VCALENDAR
VERSION:2.0
PRODID:-//Projekt Tillit - ECPv4.9.8//NONSGML v1.0//EN
CALSCALE:GREGORIAN
METHOD:PUBLISH
X-WR-CALNAME:Projekt Tillit
X-ORIGINAL-URL:https://tillit.futveckling.se
X-WR-CALDESC:Händelser för Projekt Tillit
BEGIN:VTIMEZONE
TZID:Europe/Helsinki
BEGIN:DAYLIGHT
TZOFFSETFROM:+0200
TZOFFSETTO:+0300
TZNAME:EEST
DTSTART:20190331T010000
END:DAYLIGHT
BEGIN:STANDARD
TZOFFSETFROM:+0300
TZOFFSETTO:+0200
TZNAME:EET
DTSTART:20191027T010000
END:STANDARD
END:VTIMEZONE
BEGIN:VEVENT
DTSTART;TZID="Europe/Helsinki":20191125T130000
DTEND;TZID="Europe/Helsinki":20191125T140000
DTSTAMP:20260424T193938
CREATED:20161110T124848Z
LAST-MODIFIED:20191031T122135Z
UID:427-1574686800-1574690400@tillit.futveckling.se
SUMMARY:Informationsmöte Trelleborg
DESCRIPTION:Välkommen på informationsmöte om projekt Tillit och praktik utomlands  på arbetsförmedlingen i Trelleborg\, Vannhögsgatan 3 \n
URL:https://tillit.futveckling.se/event/informationsmote-trelleborg/
LOCATION:Arbetsförmedlingen Trelleborg\, Vannhögsgatan 3\, Trelleborg\, Sverige
CATEGORIES:Informationsmöte
ATTACH;FMTTYPE=image/jpeg:https://tillit.futveckling.se/wp-content/uploads/2016/03/Cardiff_borg2_1100x336.jpg
END:VEVENT
END:VCALENDAR