BEGIN:VCALENDAR
VERSION:2.0
PRODID:-//Projekt Tillit - ECPv4.9.8//NONSGML v1.0//EN
CALSCALE:GREGORIAN
METHOD:PUBLISH
X-WR-CALNAME:Projekt Tillit
X-ORIGINAL-URL:https://tillit.futveckling.se
X-WR-CALDESC:Händelser för Projekt Tillit
BEGIN:VTIMEZONE
TZID:Europe/Helsinki
BEGIN:DAYLIGHT
TZOFFSETFROM:+0200
TZOFFSETTO:+0300
TZNAME:EEST
DTSTART:20170326T010000
END:DAYLIGHT
BEGIN:STANDARD
TZOFFSETFROM:+0300
TZOFFSETTO:+0200
TZNAME:EET
DTSTART:20171029T010000
END:STANDARD
END:VTIMEZONE
BEGIN:VEVENT
DTSTART;VALUE=DATE:20171023
DTEND;VALUE=DATE:20171025
DTSTAMP:20260424T213525
CREATED:20160512T110836Z
LAST-MODIFIED:20170510T064317Z
UID:288-1508720400-1508806799@tillit.futveckling.se
SUMMARY:Praktikstart Grupp Lund
DESCRIPTION:Grupp 6 Skåne\, startar sin praktik utomlands. \n
URL:https://tillit.futveckling.se/event/praktikstart-grupp-1-ost/
LOCATION:Företagsutveckling\, Bredgatan 2\, 222 22 Lund\, Sverige
CATEGORIES:Praktikstart
ATTACH;FMTTYPE=image/jpeg:https://tillit.futveckling.se/wp-content/uploads/2016/03/Palermo_grand.jpg
END:VEVENT
END:VCALENDAR