BEGIN:VCALENDAR
VERSION:2.0
PRODID:-//Projekt Tillit - ECPv4.9.8//NONSGML v1.0//EN
CALSCALE:GREGORIAN
METHOD:PUBLISH
X-WR-CALNAME:Projekt Tillit
X-ORIGINAL-URL:https://tillit.futveckling.se
X-WR-CALDESC:Händelser för Projekt Tillit
BEGIN:VTIMEZONE
TZID:Europe/Helsinki
BEGIN:DAYLIGHT
TZOFFSETFROM:+0200
TZOFFSETTO:+0300
TZNAME:EEST
DTSTART:20200329T010000
END:DAYLIGHT
BEGIN:STANDARD
TZOFFSETFROM:+0300
TZOFFSETTO:+0200
TZNAME:EET
DTSTART:20201025T010000
END:STANDARD
END:VTIMEZONE
BEGIN:VEVENT
DTSTART;TZID="Europe/Helsinki":20200106T235900
DTEND;TZID="Europe/Helsinki":20200106T235900
DTSTAMP:20260424T200213
CREATED:20160512T110218Z
LAST-MODIFIED:20191210T074930Z
UID:284-1578355140-1578355140@tillit.futveckling.se
SUMMARY:Sista ansökningsdag Blekinge
DESCRIPTION:Sista Ansökningsdag för den grupp som utgår från Blekinge. \nAnsök här! \n
URL:https://tillit.futveckling.se/event/sista-ansokningsdag-blekinge/
LOCATION:Företagsutveckling\, Bredgatan 2\, 222 22 Lund\, Sverige
CATEGORIES:Sista ansökningsdag
ATTACH;FMTTYPE=image/jpeg:https://tillit.futveckling.se/wp-content/uploads/2016/04/2008-09-13-11.03.10_sv.jpg
END:VEVENT
END:VCALENDAR