BEGIN:VCALENDAR
VERSION:2.0
PRODID:-//Projekt Tillit - ECPv4.9.8//NONSGML v1.0//EN
CALSCALE:GREGORIAN
METHOD:PUBLISH
X-WR-CALNAME:Projekt Tillit
X-ORIGINAL-URL:https://tillit.futveckling.se
X-WR-CALDESC:Händelser för Projekt Tillit
BEGIN:VTIMEZONE
TZID:Europe/Helsinki
BEGIN:DAYLIGHT
TZOFFSETFROM:+0200
TZOFFSETTO:+0300
TZNAME:EEST
DTSTART:20200329T010000
END:DAYLIGHT
BEGIN:STANDARD
TZOFFSETFROM:+0300
TZOFFSETTO:+0200
TZNAME:EET
DTSTART:20201025T010000
END:STANDARD
END:VTIMEZONE
BEGIN:VEVENT
DTSTART;TZID="Europe/Helsinki":20200106T235900
DTEND;TZID="Europe/Helsinki":20200106T235900
DTSTAMP:20260424T214248
CREATED:20160422T073657Z
LAST-MODIFIED:20191210T074949Z
UID:225-1578355140-1578355140@tillit.futveckling.se
SUMMARY:Sista ansökningsdag Skåne
DESCRIPTION:Sista ansökningsdagen till den grupp som utgår från Lund. Ansökan går ut 11/08 klockan 23:59. \nAnsök här! \n
URL:https://tillit.futveckling.se/event/sista-ansokningsdag/
LOCATION:Företagsutveckling\, Bredgatan 2\, 222 22 Lund\, Sverige
CATEGORIES:Sista ansökningsdag
ATTACH;FMTTYPE=image/jpeg:https://tillit.futveckling.se/wp-content/uploads/2016/05/2008-11-22-23.58.43_Sv.jpg
END:VEVENT
END:VCALENDAR